BEGIN:VCALENDAR
VERSION:2.0
PRODID:-//ChamberMaster//Event Calendar 2.0//EN
METHOD:PUBLISH
X-PUBLISHED-TTL:P3D
REFRESH-INTERVAL:P3D
CALSCALE:GREGORIAN
BEGIN:VEVENT
DTSTART:20240426T190000Z
DTEND:20240426T193000Z
X-MICROSOFT-CDO-ALLDAYEVENT:FALSE
SUMMARY:Ribbon Cutting - Dewlson Family Farm
DESCRIPTION:Join the Santa Maria Valley Chamber in celebrating Dewlson Family Farm at their ribbon cutting! As a Champion for our local business community\, we are excited to celebrate the GRAND OPENING of Dewlson Family Farm! Be sure to arrive a few minutes early to sign the ribbon. We look forward to celebrating this great local business with our community!
X-ALT-DESC;FMTTYPE=text/html:<br />\n<br />\n<span style="color:#1D1C1D\;">Join the Santa Maria Valley Chamber in celebrating&nbsp\;</span>Dewlson Family Farm&nbsp\;<span style="color:#1D1C1D\;">at their ribbon cutting! As a Champion for our local business community\, we are excited to celebrate the GRAND OPENING of&nbsp\;</span>Dewlson Family Farm<span style="color:#1D1C1D\;">! Be sure to arrive a few minutes early to sign the ribbon. We look forward to celebrating this great local business with our community!</span>
LOCATION:Dewlson Family Farm 2690 Morning Hill Road Santa Maria\, CA 93454
UID:e.679.45343
SEQUENCE:3
DTSTAMP:20260420T204950Z
URL:https://business.santamaria.com/events/details/ribbon-cutting-dewlson-family-farm-45343
END:VEVENT

END:VCALENDAR
