BEGIN:VCALENDAR
VERSION:2.0
PRODID:-//ChamberMaster//Event Calendar 2.0//EN
METHOD:PUBLISH
X-PUBLISHED-TTL:P3D
REFRESH-INTERVAL:P3D
CALSCALE:GREGORIAN
BEGIN:VEVENT
DTSTART:20250405T010000Z
DTEND:20250405T020000Z
X-MICROSOFT-CDO-ALLDAYEVENT:FALSE
SUMMARY:Dance Fitness - Latin & Ballroom
DESCRIPTION:Salsa - Ballroom and Latin Dance Fitness class. Learn how to dance Salsa and move your body without a partner. Every Friday at 7pm. Register online at allureballroom.com
X-ALT-DESC;FMTTYPE=text/html:Salsa -&nbsp\;<span style="font-family:uictfonttextstylebody">Ballroom and Latin Dance Fitness class. Learn how to dance Salsa and move your body without a partner. Every Friday at 7pm. Register online at allureballroom.com</span>
LOCATION:155 E. Clark Ave. Unit 320 Santa Maria\, CA Located on 3rd Level in Mission Pilates Orcutt.
UID:e.679.47591
SEQUENCE:3
DTSTAMP:20260425T112930Z
URL:https://business.santamaria.com/events/details/dance-fitness-latin-ballroom-04-04-2025-47591
END:VEVENT

END:VCALENDAR
