BEGIN:VCALENDAR
VERSION:2.0
PRODID:-//ChamberMaster//Event Calendar 2.0//EN
METHOD:PUBLISH
X-PUBLISHED-TTL:P3D
REFRESH-INTERVAL:P3D
CALSCALE:GREGORIAN
BEGIN:VEVENT
DTSTART:20241030T150000Z
DTEND:20241030T163000Z
X-MICROSOFT-CDO-ALLDAYEVENT:FALSE
SUMMARY:Breakfast with the President at Marian Regional Medical Center
DESCRIPTION:Marian Regional Medical Center invites you to attend a unique opportunity to explore the advances in health care in the Santa Maria Valley. Join Marian's President & CEO Sue Andersen and fellow hospital leaders to learn how the medical center is fulfilling its promise to the community by remaining at the forefront of health care innovation.\n\n\n\nSpotlight on:\n\n	Pacific Central Coast Health Centers\n	Advancements in the treatment of structural heart disease
X-ALT-DESC;FMTTYPE=text/html:<br />\nMarian Regional Medical Center invites you to attend a unique opportunity to explore the advances in health care in the Santa Maria Valley. Join Marian&rsquo\;s President &amp\; CEO Sue Andersen and fellow hospital leaders to learn how the medical center is fulfilling its promise to the community by remaining at the forefront of health care innovation.<br />\n<br />\n<strong>Spotlight on:</strong>\n<ul>\n	<li>Pacific Central Coast Health Centers</li>\n	<li>Advancements in the treatment of structural heart disease</li>\n</ul>\n
LOCATION:1400 East Church Street Santa Maria\, CA 93454 Conference Center (corner of E. Church St. and Palisade Dr.)
UID:e.679.47165
SEQUENCE:3
DTSTAMP:20260420T054321Z
URL:https://business.santamaria.com/events/details/breakfast-with-the-president-at-marian-regional-medical-center-10-30-2024-47165
END:VEVENT

END:VCALENDAR
